BEGIN:VCALENDAR
VERSION:2.0
METHOD:PUBLISH
BEGIN:VEVENT
DTSTAMP:20260421T201513Z
DTSTART:20260404T153000Z
DTEND:20260404T173000Z
SUMMARY:Tansley Woods Pool Monthly Community Events
LOCATION:1996 Itabashi Way, Burlington
END:VEVENT
END:VCALENDAR
