BEGIN:VCALENDAR
VERSION:2.0
METHOD:PUBLISH
BEGIN:VEVENT
DTSTAMP:20260421T201634Z
DTSTART:20260403T170000Z
DTEND:20260403T183000Z
SUMMARY:Kid Koala: Satellite Turntable Orchestra
LOCATION:440 Locust Street
END:VEVENT
END:VCALENDAR
