BEGIN:VCALENDAR
VERSION:2.0
METHOD:PUBLISH
BEGIN:VEVENT
DTSTAMP:20260423T123558Z
DTSTART:20251126T190000Z
DTEND:20251126T210000Z
SUMMARY:Coyote Etiquette and Petiquette pop-ups at Central Library
LOCATION:2331 New Street Burlington Public Library- Central Branch 
END:VEVENT
END:VCALENDAR
