BEGIN:VCALENDAR
VERSION:2.0
METHOD:PUBLISH
BEGIN:VEVENT
DTSTAMP:20260420T020123Z
DTSTART:20251111T150000Z
DTEND:20251111T170000Z
SUMMARY:Remembrance Day Ceremony 
LOCATION:Burlington City Hall
END:VEVENT
END:VCALENDAR
