BEGIN:VCALENDAR
VERSION:2.0
METHOD:PUBLISH
BEGIN:VEVENT
DTSTAMP:20260420T014843Z
DTSTART:20251006T220000Z
DTEND:20251007T000000Z
SUMMARY:Pre-Application Community Meeting for 1022 Gallagher Road and 235 Plains Road East
LOCATION:Virtual via Zoom
END:VEVENT
END:VCALENDAR
