BEGIN:VCALENDAR
VERSION:2.0
METHOD:PUBLISH
BEGIN:VEVENT
DTSTAMP:20260423T222019Z
DTSTART:20251001T223000Z
DTEND:20251002T003000Z
SUMMARY:Pre-Application Community Meeting for Bronte Creek Meadows, phase 1
LOCATION:Burlington Convention Centre- 1120 Burloak Dr, Burlington- Rosewood Hall
END:VEVENT
END:VCALENDAR
