BEGIN:VCALENDAR
VERSION:2.0
METHOD:PUBLISH
BEGIN:VEVENT
DTSTAMP:20260420T022345Z
DTSTART:20250930T210000Z
DTEND:20251001T000000Z
SUMMARY:Orange Shirt Day: A Walk for Reconciliation and Peace
LOCATION:Spencer Smith Park (1400 Lakeshore Road)
END:VEVENT
END:VCALENDAR
