BEGIN:VCALENDAR
VERSION:2.0
METHOD:PUBLISH
BEGIN:VEVENT
DTSTAMP:20260422T112721Z
DTSTART:20250531T170000Z
DTEND:20250531T200000Z
SUMMARY:Burlington’s Accessible Sport and Art Fair
LOCATION:1996 Itabashi Way
END:VEVENT
END:VCALENDAR
