BEGIN:VCALENDAR
VERSION:2.0
METHOD:PUBLISH
BEGIN:VEVENT
DTSTAMP:20260419T154108Z
DTSTART:20250506T223000Z
DTEND:20250507T003000Z
SUMMARY:Pre-Application Community Meeting- 1056 - 1060 Brant St
LOCATION:Hybrid meeting via zoom or in-person at 1333 Lakeshore Rd
END:VEVENT
END:VCALENDAR
