BEGIN:VCALENDAR
VERSION:2.0
METHOD:PUBLISH
BEGIN:VEVENT
DTSTAMP:20260423T164309Z
DTSTART:20250422T233000Z
DTEND:20250423T010000Z
SUMMARY:Pre-Application Community Meeting- 777 Guelph Line
LOCATION:Hybrid meeting via zoom or in-person at 565 Woodview Rd
END:VEVENT
END:VCALENDAR
