BEGIN:VCALENDAR
VERSION:2.0
METHOD:PUBLISH
BEGIN:VEVENT
DTSTAMP:20260419T183317Z
DTSTART:20250131T000000Z
DTEND:20250131T010000Z
SUMMARY:Virtual Public Information Centre for New Street Bridge Replacement at Tuck Creek
LOCATION:virtually via. Zoom https://us06web.zoom.us/j/89394922414?pwd=J7EXlxhFOSrKvEYpaqbeoNzXlj0ko4.1 
END:VEVENT
END:VCALENDAR
