BEGIN:VCALENDAR
VERSION:2.0
METHOD:PUBLISH
BEGIN:VEVENT
DTSTAMP:20260422T050230Z
DTSTART:20241203T143000Z
DTEND:20241203T143000Z
SUMMARY:Hybrid Statutory Public Meeting and Recommendation Report - 5051 Harvester Rd
LOCATION:virtual meeting held in hybrid
END:VEVENT
END:VCALENDAR
