BEGIN:VCALENDAR
VERSION:2.0
METHOD:PUBLISH
BEGIN:VEVENT
DTSTAMP:20260422T045539Z
DTSTART:20230425T230000Z
DTEND:20230426T003000Z
SUMMARY:Pre-Application Community Meeting for 5051 Harvester Road
LOCATION:Virtual Meeting
END:VEVENT
END:VCALENDAR
